BEGIN:VCALENDAR
VERSION:2.0
PRODID:-//Southwest Regional Development Commission - ECPv6.15.20//NONSGML v1.0//EN
CALSCALE:GREGORIAN
METHOD:PUBLISH
X-WR-CALNAME:Southwest Regional Development Commission
X-ORIGINAL-URL:https://www.swrdc.org
X-WR-CALDESC:Events for Southwest Regional Development Commission
REFRESH-INTERVAL;VALUE=DURATION:PT1H
X-Robots-Tag:noindex
X-PUBLISHED-TTL:PT1H
BEGIN:VTIMEZONE
TZID:America/Chicago
BEGIN:DAYLIGHT
TZOFFSETFROM:-0600
TZOFFSETTO:-0500
TZNAME:CDT
DTSTART:20210314T080000
END:DAYLIGHT
BEGIN:STANDARD
TZOFFSETFROM:-0500
TZOFFSETTO:-0600
TZNAME:CST
DTSTART:20211107T070000
END:STANDARD
BEGIN:DAYLIGHT
TZOFFSETFROM:-0600
TZOFFSETTO:-0500
TZNAME:CDT
DTSTART:20220313T080000
END:DAYLIGHT
BEGIN:STANDARD
TZOFFSETFROM:-0500
TZOFFSETTO:-0600
TZNAME:CST
DTSTART:20221106T070000
END:STANDARD
BEGIN:DAYLIGHT
TZOFFSETFROM:-0600
TZOFFSETTO:-0500
TZNAME:CDT
DTSTART:20230312T080000
END:DAYLIGHT
BEGIN:STANDARD
TZOFFSETFROM:-0500
TZOFFSETTO:-0600
TZNAME:CST
DTSTART:20231105T070000
END:STANDARD
BEGIN:DAYLIGHT
TZOFFSETFROM:-0600
TZOFFSETTO:-0500
TZNAME:CDT
DTSTART:20240310T080000
END:DAYLIGHT
BEGIN:STANDARD
TZOFFSETFROM:-0500
TZOFFSETTO:-0600
TZNAME:CST
DTSTART:20241103T070000
END:STANDARD
BEGIN:DAYLIGHT
TZOFFSETFROM:-0600
TZOFFSETTO:-0500
TZNAME:CDT
DTSTART:20250309T080000
END:DAYLIGHT
BEGIN:STANDARD
TZOFFSETFROM:-0500
TZOFFSETTO:-0600
TZNAME:CST
DTSTART:20251102T070000
END:STANDARD
END:VTIMEZONE
BEGIN:VEVENT
DTSTART;VALUE=DATE:20240603
DTEND;VALUE=DATE:20240604
DTSTAMP:20260424T082631
CREATED:20230517T164824Z
LAST-MODIFIED:20240216T145607Z
UID:10000076-1717372800-1717459199@www.swrdc.org
SUMMARY:Rural Minnesota Energy Board Meeting
DESCRIPTION:
URL:https://www.swrdc.org/event/rural-minnesota-energy-board-meeting-3/
LOCATION:U of M Campus\, Morris\, MN\, 600 East 4th Street\, Morris\, MN\, 56267\, United States
ATTACH;FMTTYPE=image/jpeg:https://www.swrdc.org/wp-content/uploads/2022/09/Solar-Field-with-Grazing-Cows.jpg
END:VEVENT
BEGIN:VEVENT
DTSTART;TZID=America/Chicago:20231127T100000
DTEND;TZID=America/Chicago:20231127T120000
DTSTAMP:20260424T082631
CREATED:20230130T214116Z
LAST-MODIFIED:20230130T214116Z
UID:10000071-1701079200-1701086400@www.swrdc.org
SUMMARY:Southwest Regional Solid Waste Commission Meeting
DESCRIPTION:
URL:https://www.swrdc.org/event/southwest-regional-solid-waste-commission-meeting-4/
LOCATION:U of M Campus\, Morris\, MN\, 600 East 4th Street\, Morris\, MN\, 56267\, United States
ATTACH;FMTTYPE=image/jpeg:https://www.swrdc.org/wp-content/uploads/2022/12/Bench-overlooking-lake-in-Worthington.jpg
END:VEVENT
BEGIN:VEVENT
DTSTART;TZID=America/Chicago:20231012T153000
DTEND;TZID=America/Chicago:20231012T180000
DTSTAMP:20260424T082631
CREATED:20230111T225824Z
LAST-MODIFIED:20230130T214836Z
UID:10000064-1697124600-1697133600@www.swrdc.org
SUMMARY:SRDC Board of Directors Meeting
DESCRIPTION:
URL:https://www.swrdc.org/event/srdc-board-of-directors-meeting/2023-10-12/
LOCATION:U of M Campus\, Morris\, MN\, 600 East 4th Street\, Morris\, MN\, 56267\, United States
ATTACH;FMTTYPE=image/jpeg:https://www.swrdc.org/wp-content/uploads/2022/09/Highway-30-Wind-Tubines-and-Rainbow.jpg
END:VEVENT
BEGIN:VEVENT
DTSTART;TZID=America/Chicago:20230925T100000
DTEND;TZID=America/Chicago:20230925T120000
DTSTAMP:20260424T082631
CREATED:20230517T164953Z
LAST-MODIFIED:20230517T164953Z
UID:10000077-1695636000-1695643200@www.swrdc.org
SUMMARY:Solid Waste Commission Meeting
DESCRIPTION:
URL:https://www.swrdc.org/event/solid-waste-commission-meeting-2/
LOCATION:U of M Campus\, Morris\, MN\, 600 East 4th Street\, Morris\, MN\, 56267\, United States
ATTACH;FMTTYPE=image/jpeg:https://www.swrdc.org/wp-content/uploads/2022/09/Sunset-along-the-Casey-Jones-State-Trail-Currie-Loop.jpg
END:VEVENT
BEGIN:VEVENT
DTSTART;TZID=America/Chicago:20230810T153000
DTEND;TZID=America/Chicago:20230810T180000
DTSTAMP:20260424T082631
CREATED:20230111T225824Z
LAST-MODIFIED:20230130T214836Z
UID:10000063-1691681400-1691690400@www.swrdc.org
SUMMARY:SRDC Board of Directors Meeting
DESCRIPTION:
URL:https://www.swrdc.org/event/srdc-board-of-directors-meeting/2023-08-10/
LOCATION:U of M Campus\, Morris\, MN\, 600 East 4th Street\, Morris\, MN\, 56267\, United States
ATTACH;FMTTYPE=image/jpeg:https://www.swrdc.org/wp-content/uploads/2022/09/Highway-30-Wind-Tubines-and-Rainbow.jpg
END:VEVENT
BEGIN:VEVENT
DTSTART;TZID=America/Chicago:20230608T153000
DTEND;TZID=America/Chicago:20230608T180000
DTSTAMP:20260424T082631
CREATED:20230111T225824Z
LAST-MODIFIED:20230130T214836Z
UID:10000062-1686238200-1686247200@www.swrdc.org
SUMMARY:SRDC Board of Directors Meeting
DESCRIPTION:
URL:https://www.swrdc.org/event/srdc-board-of-directors-meeting/2023-06-08/
LOCATION:U of M Campus\, Morris\, MN\, 600 East 4th Street\, Morris\, MN\, 56267\, United States
ATTACH;FMTTYPE=image/jpeg:https://www.swrdc.org/wp-content/uploads/2022/09/Highway-30-Wind-Tubines-and-Rainbow.jpg
END:VEVENT
BEGIN:VEVENT
DTSTART;TZID=America/Chicago:20230522T130000
DTEND;TZID=America/Chicago:20230522T150000
DTSTAMP:20260424T082631
CREATED:20230517T164510Z
LAST-MODIFIED:20230517T164510Z
UID:10000074-1684760400-1684767600@www.swrdc.org
SUMMARY:Rural Minnesota Energy Board Meeting
DESCRIPTION:
URL:https://www.swrdc.org/event/rural-minnesota-energy-board-meeting/
LOCATION:U of M Campus\, Morris\, MN\, 600 East 4th Street\, Morris\, MN\, 56267\, United States
ATTACH;FMTTYPE=image/jpeg:https://www.swrdc.org/wp-content/uploads/2022/09/Wind-Turbines-on-Buffalo-Ridge.jpg
END:VEVENT
BEGIN:VEVENT
DTSTART;TZID=America/Chicago:20230522T100000
DTEND;TZID=America/Chicago:20230522T120000
DTSTAMP:20260424T082631
CREATED:20230130T213824Z
LAST-MODIFIED:20230130T213824Z
UID:10000068-1684749600-1684756800@www.swrdc.org
SUMMARY:Southwest Regional Solid Waste Commission Meeting
DESCRIPTION:
URL:https://www.swrdc.org/event/southwest-regional-solid-waste-commission-meeting-2/
LOCATION:U of M Campus\, Morris\, MN\, 600 East 4th Street\, Morris\, MN\, 56267\, United States
ATTACH;FMTTYPE=image/jpeg:https://www.swrdc.org/wp-content/uploads/2022/12/Bench-overlooking-lake-in-Worthington.jpg
END:VEVENT
BEGIN:VEVENT
DTSTART;TZID=America/Chicago:20230413T153000
DTEND;TZID=America/Chicago:20230413T180000
DTSTAMP:20260424T082631
CREATED:20230111T225824Z
LAST-MODIFIED:20230130T214836Z
UID:10000061-1681399800-1681408800@www.swrdc.org
SUMMARY:SRDC Board of Directors Meeting
DESCRIPTION:
URL:https://www.swrdc.org/event/srdc-board-of-directors-meeting/2023-04-13/
LOCATION:U of M Campus\, Morris\, MN\, 600 East 4th Street\, Morris\, MN\, 56267\, United States
ATTACH;FMTTYPE=image/jpeg:https://www.swrdc.org/wp-content/uploads/2022/09/Highway-30-Wind-Tubines-and-Rainbow.jpg
END:VEVENT
BEGIN:VEVENT
DTSTART;TZID=America/Chicago:20230327T100000
DTEND;TZID=America/Chicago:20230327T120000
DTSTAMP:20260424T082631
CREATED:20230130T214709Z
LAST-MODIFIED:20230130T214709Z
UID:10000067-1679911200-1679918400@www.swrdc.org
SUMMARY:Southwest Regional Solid Waste Commission Meeting
DESCRIPTION:
URL:https://www.swrdc.org/event/southwest-regional-solid-waste-commission-meeting-5/
LOCATION:U of M Campus\, Morris\, MN\, 600 East 4th Street\, Morris\, MN\, 56267\, United States
ATTACH;FMTTYPE=image/jpeg:https://www.swrdc.org/wp-content/uploads/2022/12/Bench-overlooking-lake-in-Worthington.jpg
END:VEVENT
BEGIN:VEVENT
DTSTART;TZID=America/Chicago:20230209T153000
DTEND;TZID=America/Chicago:20230209T180000
DTSTAMP:20260424T082631
CREATED:20230111T225824Z
LAST-MODIFIED:20230130T214836Z
UID:10000060-1675956600-1675965600@www.swrdc.org
SUMMARY:SRDC Board of Directors Meeting
DESCRIPTION:
URL:https://www.swrdc.org/event/srdc-board-of-directors-meeting/2023-02-09/
LOCATION:U of M Campus\, Morris\, MN\, 600 East 4th Street\, Morris\, MN\, 56267\, United States
ATTACH;FMTTYPE=image/jpeg:https://www.swrdc.org/wp-content/uploads/2022/09/Highway-30-Wind-Tubines-and-Rainbow.jpg
END:VEVENT
BEGIN:VEVENT
DTSTART;TZID=America/Chicago:20221208T153000
DTEND;TZID=America/Chicago:20221208T173000
DTSTAMP:20260424T082631
CREATED:20211117T181322Z
LAST-MODIFIED:20211117T181322Z
UID:10000030-1670513400-1670520600@www.swrdc.org
SUMMARY:SRDC Board of Directors Meeting
DESCRIPTION:
URL:https://www.swrdc.org/event/srdc-board-of-directors-meeting-29/
LOCATION:U of M Campus\, Morris\, MN\, 600 East 4th Street\, Morris\, MN\, 56267\, United States
END:VEVENT
BEGIN:VEVENT
DTSTART;TZID=America/Chicago:20221128T130000
DTEND;TZID=America/Chicago:20221128T150000
DTSTAMP:20260424T082631
CREATED:20211117T180413Z
LAST-MODIFIED:20211117T180413Z
UID:10000026-1669640400-1669647600@www.swrdc.org
SUMMARY:Rural Minnesota Energy Board (RMEB) Meeting
DESCRIPTION:
URL:https://www.swrdc.org/event/rural-minnesota-energy-board-rmeb-meeting-8/
LOCATION:U of M Campus\, Morris\, MN\, 600 East 4th Street\, Morris\, MN\, 56267\, United States
END:VEVENT
BEGIN:VEVENT
DTSTART;TZID=America/Chicago:20221013T153000
DTEND;TZID=America/Chicago:20221013T173000
DTSTAMP:20260424T082631
CREATED:20211117T181248Z
LAST-MODIFIED:20211117T181248Z
UID:10000029-1665675000-1665682200@www.swrdc.org
SUMMARY:SRDC Board of Directors Meeting
DESCRIPTION:
URL:https://www.swrdc.org/event/srdc-board-of-directors-meeting-28/
LOCATION:U of M Campus\, Morris\, MN\, 600 East 4th Street\, Morris\, MN\, 56267\, United States
END:VEVENT
BEGIN:VEVENT
DTSTART;TZID=America/Chicago:20220926T130000
DTEND;TZID=America/Chicago:20220926T150000
DTSTAMP:20260424T082631
CREATED:20211117T180332Z
LAST-MODIFIED:20211117T180332Z
UID:10000025-1664197200-1664204400@www.swrdc.org
SUMMARY:Rural Minnesota Energy Board (RMEB) Meeting
DESCRIPTION:
URL:https://www.swrdc.org/event/rural-minnesota-energy-board-rmeb-meeting-7/
LOCATION:U of M Campus\, Morris\, MN\, 600 East 4th Street\, Morris\, MN\, 56267\, United States
END:VEVENT
END:VCALENDAR